BEGIN:VCALENDAR
VERSION:2.0
PRODID:-//Change/me (チェンジミー)｜インナーケア・ヨガ・ピラティス・食事改善 - ECPv6.15.13//NONSGML v1.0//EN
CALSCALE:GREGORIAN
METHOD:PUBLISH
X-WR-CALNAME:Change/me (チェンジミー)｜インナーケア・ヨガ・ピラティス・食事改善
X-ORIGINAL-URL:https://changeme.store
X-WR-CALDESC:Change/me (チェンジミー)｜インナーケア・ヨガ・ピラティス・食事改善 のイベント
REFRESH-INTERVAL;VALUE=DURATION:PT1H
X-Robots-Tag:noindex
X-PUBLISHED-TTL:PT1H
BEGIN:VTIMEZONE
TZID:Asia/Tokyo
BEGIN:STANDARD
TZOFFSETFROM:+0900
TZOFFSETTO:+0900
TZNAME:JST
DTSTART:20240101T000000
END:STANDARD
END:VTIMEZONE
BEGIN:VEVENT
DTSTART;TZID=Asia/Tokyo:20250426T133000
DTEND;TZID=Asia/Tokyo:20250426T170000
DTSTAMP:20260420T021953
CREATED:20250417T020436Z
LAST-MODIFIED:20250417T023945Z
UID:1511-1745674200-1745686800@changeme.store
SUMMARY:【会員/一般】大阪ランチ会『私を大切にする、キレイと未来を整えるひととき』
DESCRIPTION:Change/me主催｜大阪ランチ交流会のお知らせ\n『私を大切にする、キレイと未来を整えるひととき』 \n内側から輝くための「インナービューティー」と、あなたらしい「働き方」について、一緒に考えてみませんか？ \n日々の忙しさの中でも心と身体のバランスを整え、自分らしく働き続けるヒントをシェアします。（シークレットゲストが参加予定✨） \n美味しいランチをいただきながら、仕事と自分ケアの両立について語り合うひととき。これからの人生をより豊かにするための気づきを、一緒に見つけていきましょう。 \nプチワークやギフト付きの交流タイムもご用意しています。 \nこんな方におすすめ\n\n今の自分に少し変化が欲しいと感じている方\n毎日に追われ、自分のための時間が取れていない方\nこれからの働き方や暮らし方を見つめ直したい方\n同じ思いを持つ素敵な仲間とつながりたい方\n今の自分を変えるきっかけがほしい\n心と身体を整えるヒントがほしい\n自分らしく生きたいけど、何から始めていいかわからない\n「自分を大切にする時間」を持ちたい\n忙しい日常を離れて、ほっとしたい\n\n「一人で行っても大丈夫かな？」「場に馴染めるかな？」──大丈夫。そんな気持ちで来られる方がほとんどです。 \nここに集まるのは「ちょっと変わりたい」「新しい出会いがほしい」そんな仲間たち。ゆるやかにつながれるあたたかな時間をご用意して、お待ちしています。 \n\n\n\n\n開催概要\n日時：2025年4月26日（土）13:30〜15:30 ランチセッション／15:30〜17:00 希望者のみ交流会 \n会場：SUMILE OSAKA（大阪市北区中之島） \n参加費：Change/me定期購読会員：3\,000円一般：4\,000円（どなたでも参加いただけます🕊） \n\n\n\n参加方法\nお申込みは下記のリンクよりお願いいたします。お申込み後、登録メールアドレス宛にご案内をお送りします。 \n\n\n🌿 あなたの“キレイ”と“未来”が変わるかもしれません \n 今すぐ申し込む ▶ \n※席に限りがあります。どうぞお早めに。 \n\n\n  \n参加予定メンバー\n\n古瀬ハナ（@furusehana）\n浦島みお（@mio.no.diet）\n今村ゆり（@yurinicochan_）\n宮上みずき（@mizuki_miyagami）\nそのほか…（※変更の可能性あり）\n\n注意事項\n\nお申込者には前日までにメールでご案内をお送りします\n会場内での録音・録画はご遠慮ください\n定員に達し次第、受付を終了させていただきます
URL:https://changeme.store/event/%e3%80%90%e4%bc%9a%e5%93%a1-%e4%b8%80%e8%88%ac%e3%80%91%e5%a4%a7%e9%98%aa%e3%83%a9%e3%83%b3%e3%83%81%e4%bc%9a%e3%80%8e%e7%a7%81%e3%82%92%e5%a4%a7%e5%88%87%e3%81%ab%e3%81%99%e3%82%8b%e3%80%81%e3%82%ad/
END:VEVENT
END:VCALENDAR