BEGIN:VCALENDAR
VERSION:2.0
PRODID:-//Change/me (チェンジミー)｜インナーケア・ヨガ・ピラティス・食事改善 - ECPv6.15.13//NONSGML v1.0//EN
CALSCALE:GREGORIAN
METHOD:PUBLISH
X-ORIGINAL-URL:https://changeme.store
X-WR-CALDESC:Change/me (チェンジミー)｜インナーケア・ヨガ・ピラティス・食事改善 のイベント
REFRESH-INTERVAL;VALUE=DURATION:PT1H
X-Robots-Tag:noindex
X-PUBLISHED-TTL:PT1H
BEGIN:VTIMEZONE
TZID:Asia/Tokyo
BEGIN:STANDARD
TZOFFSETFROM:+0900
TZOFFSETTO:+0900
TZNAME:JST
DTSTART:20240101T000000
END:STANDARD
END:VTIMEZONE
BEGIN:VEVENT
DTSTART;TZID=Asia/Tokyo:20250430T200000
DTEND;TZID=Asia/Tokyo:20250430T213000
DTSTAMP:20260420T005341
CREATED:20250411T054147Z
LAST-MODIFIED:20250418T090033Z
UID:1431-1746043200-1746048600@changeme.store
SUMMARY:【会員/一般】ダイエット成功率100%管理栄養士が教える「痩せ体質」の作り方セミナー
DESCRIPTION:「転生ダイエット」のYouTubeモニター12名、 \n・ｰ10kg以上　４名\n・ｰ7kg 　３名\n・ｰ6kg 　１名\n・ｰ5kg　２名\n・ｰ4kg 　１名\n・ｰ２kg 　１名 \n100%減量が達成できた秘訣をChange/me専任管理栄養士、浦島みおよりお届けします。 \nこんな人におすすめ\n\nダイエットに何回も失敗している\n体重は減ってもすぐにリバウンドしてしまう\n食事制限が辛くてつづかない\n\nこんなお悩みがある人は必見！これ以上「痩せない体」に悩まされる必要はありません。 \nこのセミナーでは、代謝を上げる簡単な方法や\n体質に合わせたダイエットのコツをお伝えします！ \n\n\n\n開催日時・参加費用\n2025年 4月 30日(水)　20:00〜 \n講師：浦島みお\n会場：Zoom開催 \n無料：どなたでも参加いただけるフリーイベントです。 \n\n\n\n注意事項\n\nZoomリンクはお申込者にのみメールにてお伝えします\n許可なく録画はお控えください\n途中参加はご遠慮ください\n\n当催し中に発見した場合は、退出いただくように注意し、会員の権利を剥奪いたしますので、ご了承ください。 \n参加方法\n下記のリンクよりお申し込みいただけます。 \n申込みと決済が完了すると、ご登録いただいたメールアドレス宛てに当日のご案内が届きます。 \n\n今すぐ申し込む
URL:https://changeme.store/event/%e3%80%90%e4%bc%9a%e5%93%a1-%e4%b8%80%e8%88%ac%e3%80%91%e3%83%80%e3%82%a4%e3%82%a8%e3%83%83%e3%83%88%e6%88%90%e5%8a%9f%e7%8e%87100%e7%ae%a1%e7%90%86%e6%a0%84%e9%a4%8a%e5%a3%ab%e3%81%8c%e6%95%99/
ATTACH;FMTTYPE=image/jpeg:https://changeme.store/wp-content/uploads/2025/04/4月30日.jpg
END:VEVENT
BEGIN:VEVENT
DTSTART;TZID=Asia/Tokyo:20250430T210000
DTEND;TZID=Asia/Tokyo:20250430T220000
DTSTAMP:20260420T005341
CREATED:20250422T121300Z
LAST-MODIFIED:20250422T121300Z
UID:1569-1746046800-1746050400@changeme.store
SUMMARY:【会員/一般】Change/meを“正しく使って変わる”ための勉強会～もったいない使い方していませんか？～
DESCRIPTION:Change/me主催｜オンライン勉強会のご案内\nChange/meを“正しく使って変わる”ための勉強会 ～もったいない使い方していませんか？～ を開催します！ \nChange/meサプリメントを「なんとなく飲んでる」そんなあなたへ。正しい使い方を知ることで、あなたの“キレイ”と“変化”がぐんと近づきます。 \n「Change/meを最大限に活かすための基本と実践」をわかりやすく解説！体の中からキレイをつくる【インナーケアの考え方】や、よくある疑問にもお答えします✨ \nこんな方におすすめ\n\nChange/meを飲み始めたばかりの方\nなんとなく飲んでいて効果を感じづらい方\nサプリの役割や成分をしっかり知りたい方\nより効果的に使っていきたい方\nインナーケアや糖化ケアに興味がある方\n\nおうちから気軽に参加OK！ぜひこの機会にご参加ください🌿 \n\n\n\n\n開催概要\n日時：2025年4月30日（水）21:00〜22:00 \n講師：今村ゆり \n会場：オンライン（Zoom） \n参加費：無料（要申込） \n\n\n\n参加方法\nお申込みいただいた方に、開催当日までにZoomリンクをメールでお送りします。 \n\n\n📝 正しく知って、キレイに変わる一歩を！ \n 無料で参加する ▶ \n※人数把握のため、事前お申込みをお願いします \n\n\n注意事項\n\nZoomリンクは前日までにメールでお送りします\n開始5分前には入室をお願いいたします\n録音・録画はご遠慮ください
URL:https://changeme.store/event/%e3%80%90%e4%bc%9a%e5%93%a1-%e4%b8%80%e8%88%ac%e3%80%91change-me%e3%82%92%e6%ad%a3%e3%81%97%e3%81%8f%e4%bd%bf%e3%81%a3%e3%81%a6%e5%a4%89%e3%82%8f%e3%82%8b%e3%81%9f%e3%82%81%e3%81%ae/
END:VEVENT
END:VCALENDAR