BEGIN:VCALENDAR
VERSION:2.0
PRODID:-//Change/me (チェンジミー)｜インナーケア・ヨガ・ピラティス・食事改善 - ECPv6.15.13//NONSGML v1.0//EN
CALSCALE:GREGORIAN
METHOD:PUBLISH
X-WR-CALNAME:Change/me (チェンジミー)｜インナーケア・ヨガ・ピラティス・食事改善
X-ORIGINAL-URL:https://changeme.store
X-WR-CALDESC:Change/me (チェンジミー)｜インナーケア・ヨガ・ピラティス・食事改善 のイベント
REFRESH-INTERVAL;VALUE=DURATION:PT1H
X-Robots-Tag:noindex
X-PUBLISHED-TTL:PT1H
BEGIN:VTIMEZONE
TZID:Asia/Tokyo
BEGIN:STANDARD
TZOFFSETFROM:+0900
TZOFFSETTO:+0900
TZNAME:JST
DTSTART:20240101T000000
END:STANDARD
END:VTIMEZONE
BEGIN:VEVENT
DTSTART;TZID=Asia/Tokyo:20250504T100000
DTEND;TZID=Asia/Tokyo:20250504T120000
DTSTAMP:20260420T005136
CREATED:20250416T123649Z
LAST-MODIFIED:20250416T123649Z
UID:1495-1746352800-1746360000@changeme.store
SUMMARY:【会員/一般】100万人に1人の難病になって分かった、今を生きる幸せ
DESCRIPTION:Change/me主催｜特別講演のご案内\n100万人に1人の難病と向き合いながら、「できること」に目を向け、希望を発信し続ける落水洋介さん。\n彼のリアルな言葉とあたたかい笑顔が、多くの人の心を揺さぶっています。 \n\n今回、Change/meが主催する特別講演として、福岡・博多でのリアルイベントが実現しました。\n人生の見方が変わる2時間。ぜひ、この機会にご参加ください。 \n\nこんな方におすすめ\n\n  変わりたいけど、一歩が踏み出せない\n  できないことや弱さに悩んでいる\n  誰かの言葉に背中を押してもらいたい\n  人生に立ち止まっていると感じている\n\nあなたの中の「今」が、そっと動き出すかもしれません。 \n\n\n\n\n  \n      開催概要\n      日時：2025年5月4日（日）10:00〜12:00 \n      講師：落水洋介さん\n      会場：TKPガーデンシティ博多新幹線口 プレミアムホール \n      参加費：無料（要申込） \n    \n  \n\n\n参加方法\nお申込みは下記のリンクよりお願いいたします。\nお申込み後、登録メールアドレス宛にご案内をお送りします。 \n\n\n\n  🌿 この講演で、あなたの“今”が変わるかもしれません \n  \n    今すぐ申し込む ▶\n  \n  ※席に限りがあります。どうぞお早めに✨ \n\n\n注意事項\n\n  お申込者には前日までにメールでご案内をお送りします\n  会場内での録音・録画はご遠慮ください\n  定員に達し次第、受付を終了させていただきます
URL:https://changeme.store/event/%e3%80%90%e4%bc%9a%e5%93%a1-%e4%b8%80%e8%88%ac%e3%80%91100%e4%b8%87%e4%ba%ba%e3%81%ab1%e4%ba%ba%e3%81%ae%e9%9b%a3%e7%97%85%e3%81%ab%e3%81%aa%e3%81%a3%e3%81%a6%e5%88%86%e3%81%8b%e3%81%a3%e3%81%9f/
END:VEVENT
END:VCALENDAR