BEGIN:VCALENDAR
VERSION:2.0
PRODID:-//Change/me (チェンジミー)｜インナーケア・ヨガ・ピラティス・食事改善 - ECPv6.15.13//NONSGML v1.0//EN
CALSCALE:GREGORIAN
METHOD:PUBLISH
X-WR-CALNAME:Change/me (チェンジミー)｜インナーケア・ヨガ・ピラティス・食事改善
X-ORIGINAL-URL:https://changeme.store
X-WR-CALDESC:Change/me (チェンジミー)｜インナーケア・ヨガ・ピラティス・食事改善 のイベント
REFRESH-INTERVAL;VALUE=DURATION:PT1H
X-Robots-Tag:noindex
X-PUBLISHED-TTL:PT1H
BEGIN:VTIMEZONE
TZID:Asia/Tokyo
BEGIN:STANDARD
TZOFFSETFROM:+0900
TZOFFSETTO:+0900
TZNAME:JST
DTSTART:20240101T000000
END:STANDARD
END:VTIMEZONE
BEGIN:VEVENT
DTSTART;TZID=Asia/Tokyo:20250530T200000
DTEND;TZID=Asia/Tokyo:20250530T213000
DTSTAMP:20260419T231951
CREATED:20250411T043240Z
LAST-MODIFIED:20250411T054311Z
UID:1424-1748635200-1748640600@changeme.store
SUMMARY:【会員/一般】ダイエット成功率100%管理栄養士が教える！転生ダイエットセミナー
DESCRIPTION:「転生ダイエット」のYouTubeモニター12名、 \n・ｰ10kg以上　４名\n・ｰ7kg 　３名\n・ｰ6kg 　１名\n・ｰ5kg　２名\n・ｰ4kg 　１名\n・ｰ２kg 　１名 \n100%減量が達成できた秘訣をChange/me専任管理栄養士、浦島みおよりお届けします。 \nこんな人におすすめ\n\n運動は苦手だけど瘦せたい\n食べても食欲が落ち着かない\n食事制限が辛くてつづかない\n今の食事が自分に合っているか分からない\n忙しくてコンビニ、外食ばかりになってしまう\n\nこんなお悩みがある人は必見！ \n食べながら劇的に瘦せる方法をお伝えします！ \n\n\n\n開催日時・参加費用\n2025年 5月 30日(金)　20:00〜 \n講師：浦島みお\n会場：Zoom開催 \n無料：どなたでも参加いただけるフリーイベントです。 \n\n\n\n注意事項\n\nZoomリンクはお申込者にのみメールにてお伝えします\n許可なく録画はお控えください\n途中参加はご遠慮ください\n\n当催し中に発見した場合は、退出いただくように注意し、会員の権利を剥奪いたしますので、ご了承ください。 \n参加方法\n下記のリンクよりお申し込みいただけます。 \n申込みと決済が完了すると、ご登録いただいたメールアドレス宛てに当日のご案内が届きます。\n当日、お申し込み完了メールの画面もしくはスクショを受付までお見せください。 \n\n今すぐ申し込む
URL:https://changeme.store/event/0530/
ATTACH;FMTTYPE=image/png:https://changeme.store/wp-content/uploads/2025/04/【224】転生ダイエットセミナーのコピー-1200-x-630-px.png
END:VEVENT
END:VCALENDAR