BEGIN:VCALENDAR
VERSION:2.0
PRODID:-//Change/me (チェンジミー)｜インナーケア・ヨガ・ピラティス・食事改善 - ECPv6.15.13//NONSGML v1.0//EN
CALSCALE:GREGORIAN
METHOD:PUBLISH
X-WR-CALNAME:Change/me (チェンジミー)｜インナーケア・ヨガ・ピラティス・食事改善
X-ORIGINAL-URL:https://changeme.store
X-WR-CALDESC:Change/me (チェンジミー)｜インナーケア・ヨガ・ピラティス・食事改善 のイベント
REFRESH-INTERVAL;VALUE=DURATION:PT1H
X-Robots-Tag:noindex
X-PUBLISHED-TTL:PT1H
BEGIN:VTIMEZONE
TZID:Asia/Tokyo
BEGIN:STANDARD
TZOFFSETFROM:+0900
TZOFFSETTO:+0900
TZNAME:JST
DTSTART:20240101T000000
END:STANDARD
END:VTIMEZONE
BEGIN:VEVENT
DTSTART;TZID=Asia/Tokyo:20250622T110000
DTEND;TZID=Asia/Tokyo:20250622T180000
DTSTAMP:20260419T231035
CREATED:20250607T071418Z
LAST-MODIFIED:20250607T071418Z
UID:2175-1750590000-1750615200@changeme.store
SUMMARY:【会員/一般】Change/me 2025 First half contest
DESCRIPTION:Change/me コンテスト 2025\n― 誰かが人生を変える瞬間に立ち会う ― \n\n    スピーチ・ランウェイ・表現で魅せる8人の挑戦者たち。\n    「人はいつでも変われる」その瞬間を、ぜひ会場で応援してください。\n   \n2025年6月22日（日） \n＠WITH HARAJUKU（原宿駅すぐ） \n\n    13:30〜16:00（開場13:00）\n   \n\n    ※企業体験ブースは11:00〜18:00\n   \n\n    観覧参加者には素敵なプレゼントをご用意しています♪\n   \n  \n    チケットの詳細・購入はこちら
URL:https://changeme.store/event/%e3%80%90%e4%bc%9a%e5%93%a1-%e4%b8%80%e8%88%ac%e3%80%91change-me-2025-first-half-contest/
LOCATION:WITH HARAJUKU\, 東京都渋谷区神宮前 1-14-30
ATTACH;FMTTYPE=image/png:https://changeme.store/wp-content/uploads/2025/06/image6.png
END:VEVENT
END:VCALENDAR