BEGIN:VCALENDAR
VERSION:2.0
PRODID:-//Change/me (チェンジミー)｜インナーケア・ヨガ・ピラティス・食事改善 - ECPv6.15.13//NONSGML v1.0//EN
CALSCALE:GREGORIAN
METHOD:PUBLISH
X-ORIGINAL-URL:https://changeme.store
X-WR-CALDESC:Change/me (チェンジミー)｜インナーケア・ヨガ・ピラティス・食事改善 のイベント
REFRESH-INTERVAL;VALUE=DURATION:PT1H
X-Robots-Tag:noindex
X-PUBLISHED-TTL:PT1H
BEGIN:VTIMEZONE
TZID:Asia/Tokyo
BEGIN:STANDARD
TZOFFSETFROM:+0900
TZOFFSETTO:+0900
TZNAME:JST
DTSTART:20240101T000000
END:STANDARD
END:VTIMEZONE
BEGIN:VEVENT
DTSTART;TZID=Asia/Tokyo:20250630T130000
DTEND;TZID=Asia/Tokyo:20250630T143000
DTSTAMP:20260419T220030
CREATED:20250618T024443Z
LAST-MODIFIED:20250618T024443Z
UID:2257-1751288400-1751293800@changeme.store
SUMMARY:【会員/一般】ダイエット成功率100%管理栄養士が教える「痩せ体質」の作り方セミナー
DESCRIPTION:ダイエット成功率100%管理栄養士が教える「痩せ体質」の作り方セミナー\n― 100%減量達成の秘訣をChange/me専任管理栄養士 浦島みおが伝授 ― \n\n📊 YouTubeモニター12名の減量結果 \n\nｰ10kg以上　4名\nｰ7kg　　　3名\nｰ6kg　　　1名\nｰ5kg　　　2名\nｰ4kg　　　1名\nｰ2kg　　　1名\n\nこんな人におすすめ \n\nダイエットに何度も失敗している\n体重は減ってもすぐリバウンドしてしまう\n食事制限が辛くて続かない\n\n代謝を上げる簡単な方法や体質に合わせたダイエットのコツをお伝えします！ \n📅 開催日時 \n\n6月30日(月) 13:00〜14:30\n6月30日(月) 20:00〜21:30\n\n※同日に2回開催がありますが、内容は同じです。 \n講師：浦島みお（Change/me専任管理栄養士） \n会場：Zoom \n参加費無料・どなたでもご参加いただけます。 \n \n  \n    無料で参加する\n   \n※Change/me定期購入者様以外も参加可能です。
URL:https://changeme.store/event/%e3%80%90%e4%bc%9a%e5%93%a1-%e4%b8%80%e8%88%ac%e3%80%91%e3%83%80%e3%82%a4%e3%82%a8%e3%83%83%e3%83%88%e6%88%90%e5%8a%9f%e7%8e%87100%e7%ae%a1%e7%90%86%e6%a0%84%e9%a4%8a%e5%a3%ab%e3%81%8c%e6%95%99-2/
ATTACH;FMTTYPE=image/jpeg:https://changeme.store/wp-content/uploads/2025/06/IMG_8614-1024x538-1.jpg
END:VEVENT
BEGIN:VEVENT
DTSTART;TZID=Asia/Tokyo:20250630T200000
DTEND;TZID=Asia/Tokyo:20250630T213000
DTSTAMP:20260419T220030
CREATED:20250618T024521Z
LAST-MODIFIED:20250618T024521Z
UID:2259-1751313600-1751319000@changeme.store
SUMMARY:【会員/一般】ダイエット成功率100%管理栄養士が教える「痩せ体質」の作り方セミナー
DESCRIPTION:ダイエット成功率100%管理栄養士が教える「痩せ体質」の作り方セミナー\n― 100%減量達成の秘訣をChange/me専任管理栄養士 浦島みおが伝授 ― \n\n📊 YouTubeモニター12名の減量結果 \n\nｰ10kg以上　4名\nｰ7kg　　　3名\nｰ6kg　　　1名\nｰ5kg　　　2名\nｰ4kg　　　1名\nｰ2kg　　　1名\n\nこんな人におすすめ \n\nダイエットに何度も失敗している\n体重は減ってもすぐリバウンドしてしまう\n食事制限が辛くて続かない\n\n代謝を上げる簡単な方法や体質に合わせたダイエットのコツをお伝えします！ \n📅 開催日時 \n\n6月30日(月) 13:00〜14:30\n6月30日(月) 20:00〜21:30\n\n※同日に2回開催がありますが、内容は同じです。 \n講師：浦島みお（Change/me専任管理栄養士） \n会場：Zoom \n参加費無料・どなたでもご参加いただけます。 \n \n  \n    無料で参加する\n   \n※Change/me定期購入者様以外も参加可能です。
URL:https://changeme.store/event/%e3%80%90%e4%bc%9a%e5%93%a1-%e4%b8%80%e8%88%ac%e3%80%91%e3%83%80%e3%82%a4%e3%82%a8%e3%83%83%e3%83%88%e6%88%90%e5%8a%9f%e7%8e%87100%e7%ae%a1%e7%90%86%e6%a0%84%e9%a4%8a%e5%a3%ab%e3%81%8c%e6%95%99-3/
ATTACH;FMTTYPE=image/jpeg:https://changeme.store/wp-content/uploads/2025/06/IMG_8614-1024x538-1.jpg
END:VEVENT
BEGIN:VEVENT
DTSTART;TZID=Asia/Tokyo:20250630T210000
DTEND;TZID=Asia/Tokyo:20250630T220000
DTSTAMP:20260419T220030
CREATED:20250521T084552Z
LAST-MODIFIED:20250521T084552Z
UID:1935-1751317200-1751320800@changeme.store
SUMMARY:【会員限定】Change/ meヨガレッスン
DESCRIPTION:Change/me会員様限定、オンラインヨガレッスンを開催します。 \n本ヨガクラスでは、\n・自律神経の整え方\n・筋肉をしなやかに作るポイント\n・巡りを良くする方法\n・ストレスを溜めないヨガ\nをお伝えいたします。 \nこんな人におすすめ\nこのヨガクラスの基本的な考え方やポイントをわかりやすく、具体的にお話しします。\n下の項目に該当する方はぜひご参加ください。 \n\nこれからダイエットをはじめる方\n無理なく、体を動かしたい方\n過度な運動を試したけれど失敗してしまった方\nダイエットでストレスが溜まる方\nしなやかな筋肉を手に入れたい方\n\n\n\n\n開催日時・参加費用\n講師：高橋みづき　会場：ZOOM\n内容：おやすみストレッチ \nセミナーはZOOMにて行います。\nセミナーの参加費用は無料です。 \n\n\n\n注意事項\n\n静かな環境でご参加ください\n参加時はミュートにてご参加ください\n会員様限定コンテンツのため、許可なく録画はお控えください\n途中参加はご遠慮ください\n営業活動はお控えください\n当催し中に発見した場合は、退出いただくように注意し、会員の権利を剥奪いたしますので、ご了承ください。\n\n参加方法\nChange/me会員様限定のイベントです。定期購入の方は、メンバーサイトからお申込みいただけます。 \nChange/meをご購入いただきましたら、どなたでも参加できるイベントです。 \n\nChange/meの購入はこちら
URL:https://changeme.store/event/%e3%80%90%e4%bc%9a%e5%93%a1%e9%99%90%e5%ae%9a%e3%80%91change-me%e3%83%a8%e3%82%ac%e3%83%ac%e3%83%83%e3%82%b9%e3%83%b3-7/
ATTACH;FMTTYPE=image/png:https://changeme.store/wp-content/uploads/2025/02/Change-meヨガバナー-2.png
END:VEVENT
END:VCALENDAR