BEGIN:VCALENDAR
VERSION:2.0
PRODID:-//Change/me (チェンジミー)｜インナーケア・ヨガ・ピラティス・食事改善 - ECPv6.15.13//NONSGML v1.0//EN
CALSCALE:GREGORIAN
METHOD:PUBLISH
X-WR-CALNAME:Change/me (チェンジミー)｜インナーケア・ヨガ・ピラティス・食事改善
X-ORIGINAL-URL:https://changeme.store
X-WR-CALDESC:Change/me (チェンジミー)｜インナーケア・ヨガ・ピラティス・食事改善 のイベント
REFRESH-INTERVAL;VALUE=DURATION:PT1H
X-Robots-Tag:noindex
X-PUBLISHED-TTL:PT1H
BEGIN:VTIMEZONE
TZID:Asia/Tokyo
BEGIN:STANDARD
TZOFFSETFROM:+0900
TZOFFSETTO:+0900
TZNAME:JST
DTSTART:20240101T000000
END:STANDARD
END:VTIMEZONE
BEGIN:VEVENT
DTSTART;TZID=Asia/Tokyo:20250710T200000
DTEND;TZID=Asia/Tokyo:20250710T210000
DTSTAMP:20260419T215615
CREATED:20250703T093828Z
LAST-MODIFIED:20250703T093828Z
UID:2373-1752177600-1752181200@changeme.store
SUMMARY:【定期開催】【会員/一般】Change/meオンライン説明会②
DESCRIPTION:Change/me オンライン説明会\n― Change/meをもっと正しく、もっと自分らしく ― \n\n📅 毎月1日開催 \nChange/me説明会① – 正しい食事アドバイス付き –\n    管理栄養士から学ぶ、正しいChange/meの使い方と食生活の整え方。\n    「なんとなく」ではなく、正しい知識で効果を最大化しよう。 \n\n飲み方や成分について詳しく知りたい方\nこれからダイエットを始めたい方\nインナーケアやアンチエイジングに興味がある方\n生活習慣病を予防したい方\n\n📅 毎月10日・20日開催 \nChange/me説明会② -「なりたい私を叶える」-\n    “人はいつでも変われる、私も変われる”\n    Change/meが大切にしている思いや、美しさへの考え方を知る時間。 \n\n自分を変えたいけど、何から始めていいか分からない方\nもっと自分を好きになりたい方\n心も体も整えたいと願っている方\nChange/meの考える“本当の美しさ”に触れてみたい方\n\n  \n    無料で参加する
URL:https://changeme.store/event/%e3%80%90%e5%ae%9a%e6%9c%9f%e9%96%8b%e5%82%ac%e3%80%91%e3%80%90%e4%bc%9a%e5%93%a1-%e4%b8%80%e8%88%ac%e3%80%91change-me%e3%82%aa%e3%83%b3%e3%83%a9%e3%82%a4%e3%83%b3%e8%aa%ac%e6%98%8e%e4%bc%9a%e2%91%a1/
ATTACH;FMTTYPE=image/png:https://changeme.store/wp-content/uploads/2025/05/【Changeme】説明会アイキャッチ-3.png
END:VEVENT
BEGIN:VEVENT
DTSTART;TZID=Asia/Tokyo:20250710T210000
DTEND;TZID=Asia/Tokyo:20250710T220000
DTSTAMP:20260419T215615
CREATED:20250612T031816Z
LAST-MODIFIED:20250612T031816Z
UID:2196-1752181200-1752184800@changeme.store
SUMMARY:【会員限定】Change/ meオンラインピラティスレッスン
DESCRIPTION:Change/me会員様限定、オンラインピラティスレッスンを開催します。 \nピラティスレッスンでは、脂肪を落とすだけでは叶えられない\n・締まりのある身体\n・姿勢改善の方法\n・疲れにくくなる身体づくり\n・正しい身体の使い方\nを目標に、初心者さんでも取り組みやすいエクササイズをお伝えします。 \n特に、下っ腹ぽっこりさん・前ももパンパンさんは、脂肪だけでなく姿勢の悪さが大きく関わっていることが9割です。 \nピラティスで姿勢を改善し、より理想の身体を手に入れましょう！ \nこんな人におすすめ\n運動初心者さん \n\n引き締まった綺麗なボディラインを手に入れたい方\n姿勢にお悩みがある方\n肩こりや腰痛などのお悩みがある方\n細いだけでなく健康的な身体を作りたい方\n\nピラティスレッスンではただキツいエクササイズをして見た目を変えるのではなく、正しい骨の位置や身体の使い方を”脳”へインプットさせつつ、身体の土台となる体幹やインナーマッスルへのアプローチをおこなっていきます。 \n前半はほぐしやストレッチをおこない、後半はエクササイズという初心者さんでも取り組みやすい内容となっております。 \nお気軽にご参加ください。 \n\n\n\n開催日時・参加費用\n講師：ARISA　会場：ZOOM\n内容：夏バテ解消 \nセミナーはZOOMにて行います。\nセミナーの参加費用は無料です。 \n\n\n\n注意事項\n\n静かな環境でご参加ください\n参加時はミュートにてご参加ください\n会員様限定コンテンツのため、許可なく録画はお控えください\n途中参加はご遠慮ください\n営業活動はお控えください\n当催し中に発見した場合は、退出いただくように注意し、会員の権利を剥奪いたしますので、ご了承ください。\n\n参加方法\nChange/me会員様限定のイベントです。定期購入の方は、メンバーサイトからお申込みいただけます。 \nChange/meをご購入いただきましたら、どなたでも参加できるイベントです。 \n\nChange/meの購入はこちら
URL:https://changeme.store/event/%e3%80%90%e4%bc%9a%e5%93%a1%e9%99%90%e5%ae%9a%e3%80%91change-me%e3%82%aa%e3%83%b3%e3%83%a9%e3%82%a4%e3%83%b3%e3%83%94%e3%83%a9%e3%83%86%e3%82%a3%e3%82%b9%e3%83%ac%e3%83%83%e3%82%b9%e3%83%b3-7/
ATTACH;FMTTYPE=image/png:https://changeme.store/wp-content/uploads/2025/02/Change-meヨガバナー-3.png
END:VEVENT
END:VCALENDAR