BEGIN:VCALENDAR
VERSION:2.0
PRODID:-//Change/me (チェンジミー)｜インナーケア・ヨガ・ピラティス・食事改善 - ECPv6.15.13//NONSGML v1.0//EN
CALSCALE:GREGORIAN
METHOD:PUBLISH
X-WR-CALNAME:Change/me (チェンジミー)｜インナーケア・ヨガ・ピラティス・食事改善
X-ORIGINAL-URL:https://changeme.store
X-WR-CALDESC:Change/me (チェンジミー)｜インナーケア・ヨガ・ピラティス・食事改善 のイベント
REFRESH-INTERVAL;VALUE=DURATION:PT1H
X-Robots-Tag:noindex
X-PUBLISHED-TTL:PT1H
BEGIN:VTIMEZONE
TZID:Asia/Tokyo
BEGIN:STANDARD
TZOFFSETFROM:+0900
TZOFFSETTO:+0900
TZNAME:JST
DTSTART:20240101T000000
END:STANDARD
END:VTIMEZONE
BEGIN:VEVENT
DTSTART;TZID=Asia/Tokyo:20250713T130000
DTEND;TZID=Asia/Tokyo:20250713T163000
DTSTAMP:20260419T220032
CREATED:20250525T234255Z
LAST-MODIFIED:20250525T234255Z
UID:1958-1752411600-1752424200@changeme.store
SUMMARY:【会員/一般】有村藍里×Change/me トークイベント -変わる勇気と自分らしさ-
DESCRIPTION:有村藍里 × Change/me トークイベント\n― 自分らしく生きたいあなたへ ― \n\n    「変わりたいけど、どうしたらいいかわからない」\n    「もっと自分を好きになりたい」 \n    そんな気持ちを抱えるあなたに。\n    有村藍里さんと一緒に、やさしく背中を押す時間を過ごしませんか？\n   \n2025年7月13日（日） \n＠丸ビルホール＆コンファレンス（東京・丸の内） \n\n    12:00開場 ／ 13:00〜16:30\n   \n  \n    チケットの詳細・購入はこちら
URL:https://changeme.store/event/%e3%80%90%e4%bc%9a%e5%93%a1-%e4%b8%80%e8%88%ac%e3%80%91%e6%9c%89%e6%9d%91%e8%97%8d%e9%87%8cxchange-me-%e3%83%88%e3%83%bc%e3%82%af%e3%82%a4%e3%83%99%e3%83%b3%e3%83%88-%e5%a4%89%e3%82%8f%e3%82%8b/
LOCATION:丸ビルホール＆コンファレンス（東京・丸の内）\, 東京都千代田区丸の内２丁目４−１ 丸ビル7F
END:VEVENT
END:VCALENDAR