BEGIN:VCALENDAR
VERSION:2.0
PRODID:-//Change/me (チェンジミー)｜インナーケア・ヨガ・ピラティス・食事改善 - ECPv6.15.13//NONSGML v1.0//EN
CALSCALE:GREGORIAN
METHOD:PUBLISH
X-WR-CALNAME:Change/me (チェンジミー)｜インナーケア・ヨガ・ピラティス・食事改善
X-ORIGINAL-URL:https://changeme.store
X-WR-CALDESC:Change/me (チェンジミー)｜インナーケア・ヨガ・ピラティス・食事改善 のイベント
REFRESH-INTERVAL;VALUE=DURATION:PT1H
X-Robots-Tag:noindex
X-PUBLISHED-TTL:PT1H
BEGIN:VTIMEZONE
TZID:Asia/Tokyo
BEGIN:STANDARD
TZOFFSETFROM:+0900
TZOFFSETTO:+0900
TZNAME:JST
DTSTART:20240101T000000
END:STANDARD
END:VTIMEZONE
BEGIN:VEVENT
DTSTART;TZID=Asia/Tokyo:20250727T160000
DTEND;TZID=Asia/Tokyo:20250727T200000
DTSTAMP:20260419T215615
CREATED:20250710T003652Z
LAST-MODIFIED:20250710T003729Z
UID:2417-1753632000-1753646400@changeme.store
SUMMARY:【会員/一般】夕暮れピラティス体験会＆交流会
DESCRIPTION:Change/me 夕暮れピラティス体験会\n― がんばらない時間を、自分にプレゼント ― \n\n    心と身体をゆるめて、自分を整えるひととき。\n    初めての方でも安心して楽しめる、やさしいピラティスレッスンと\n    Change/matesとの交流が楽しめるディナー会の2部構成でお届けします🌿\n   \n2025年7月27日（日） \n＠渋谷・新南口エリア（詳細は申込者にご案内） \n\n    16:00〜20:00（16:30〜17:30 レッスン／18:00〜 ディナー交流会） \n\n    ［レッスン講師］ARISA ＆ ちさと\n    ［参加費］会員 2\,500円 ／ 一般 3\,500円（税込）\n    ※ディナー交流会費は別途・実費です\n   \n  \n    お申し込みはこちら（会員）\n   \n  \n    お申し込みはこちら（一般）
URL:https://changeme.store/event/%e3%80%90%e4%bc%9a%e5%93%a1-%e4%b8%80%e8%88%ac%e3%80%91%e5%a4%95%e6%9a%ae%e3%82%8c%e3%83%94%e3%83%a9%e3%83%86%e3%82%a3%e3%82%b9%e4%bd%93%e9%a8%93%e4%bc%9a%ef%bc%86%e4%ba%a4%e6%b5%81%e4%bc%9a/
ATTACH;FMTTYPE=image/png:https://changeme.store/wp-content/uploads/2025/07/夕暮れピラティス-1.png
END:VEVENT
END:VCALENDAR